BEGIN:VCALENDAR
VERSION:2.0
PRODID:-//ChamberMaster//Event Calendar 2.0//EN
METHOD:PUBLISH
X-PUBLISHED-TTL:P1H
REFRESH-INTERVAL:P1H
CALSCALE:GREGORIAN
BEGIN:VTIMEZONE
TZID:America/New_York
BEGIN:DAYLIGHT
RRULE:FREQ=YEARLY;BYMONTH=3;BYDAY=2SU
DTSTART:20070101T000000
TZOFFSETFROM:-0500
TZOFFSETTO:-0400
TZNAME:Eastern Daylight Time
END:DAYLIGHT
BEGIN:STANDARD
RRULE:FREQ=YEARLY;BYMONTH=11;BYDAY=1SU
DTSTART:20070101T000000
TZOFFSETFROM:-0400
TZOFFSETTO:-0500
TZNAME:Eastern Standard Time
END:STANDARD
END:VTIMEZONE
BEGIN:VEVENT
DTSTART;TZID=America/New_York:20260425T100000
DTEND;TZID=America/New_York:20260425T120000
X-MICROSOFT-CDO-ALLDAYEVENT:FALSE
SUMMARY:Lifelong Learning at Cecil College- Lavender and Rosemary Wreath
DESCRIPTION:Learn how rosemary and lavender improve the mind\, body and spirit. Students will make a wreath of rosemary and lavender to take home.
X-ALT-DESC;FMTTYPE=text/html:Learn how rosemary and lavender improve the mind\, body and spirit. Students will make a wreath of rosemary and lavender to take home.
LOCATION:843 Elk Forest Rd. Elkton MD 21921
UID:e.4534.1416874
SEQUENCE:3
DTSTAMP:20260419T132647Z
URL:https://cecilcountychamberofcommercemd.growthzoneapp.com/events/Details/lifelong-learning-at-cecil-college-lavender-and-rosemary-wreath-1674765?sourceTypeId=Hub
END:VEVENT
END:VCALENDAR
