BEGIN:VCALENDAR
VERSION:2.0
PRODID:-//ChamberMaster//Event Calendar 2.0//EN
METHOD:PUBLISH
X-PUBLISHED-TTL:P1H
REFRESH-INTERVAL:P1H
CALSCALE:GREGORIAN
BEGIN:VTIMEZONE
TZID:America/New_York
BEGIN:DAYLIGHT
RRULE:FREQ=YEARLY;BYMONTH=3;BYDAY=2SU
DTSTART:20070101T000000
TZOFFSETFROM:-0500
TZOFFSETTO:-0400
TZNAME:Eastern Daylight Time
END:DAYLIGHT
BEGIN:STANDARD
RRULE:FREQ=YEARLY;BYMONTH=11;BYDAY=1SU
DTSTART:20070101T000000
TZOFFSETFROM:-0400
TZOFFSETTO:-0500
TZNAME:Eastern Standard Time
END:STANDARD
END:VTIMEZONE
BEGIN:VEVENT
DTSTART;TZID=America/New_York:20260617T073000
DTEND;TZID=America/New_York:20260617T160000
X-MICROSOFT-CDO-ALLDAYEVENT:FALSE
SUMMARY:Boys & Girls Club Cecil Golf Tournament
DESCRIPTION:Join us at the Cecil Golf Tournament for a rousing "captain's choice" round of golf on Wednesday\, June 17\, to support the Boys & Girls Club mission of inspiring and enabling the young people of our communities. Sponsorships and foursomes available. Come join us! https://bgcharfordcecil.org/event/bgc-golf-tournament/
X-ALT-DESC;FMTTYPE=text/html:<!DOCTYPE html><html><head><title></title></head><body aria-disabled="false"><p>Join us at the Cecil Golf Tournament for a rousing &ldquo\;captain&rsquo\;s choice&rdquo\; round of golf on Wednesday\, June 17\, to support the Boys &amp\; Girls Club mission of inspiring and enabling the young people of our communities. Sponsorships and foursomes available. Come join us! https://bgcharfordcecil.org/event/bgc-golf-tournament/</p></body></html>
LOCATION:128 Karen Dr. Rising Sun MD 21911
UID:e.4534.1443139
SEQUENCE:3
DTSTAMP:20260419T132647Z
URL:https://cecilcountychamberofcommercemd.growthzoneapp.com/events/Details/boys-girls-club-cecil-golf-tournament-1709349?sourceTypeId=Hub
END:VEVENT
END:VCALENDAR
